BEGIN:VCALENDAR
VERSION:2.0
PRODID:-//Česká meteorologická společnost - ECPv6.2.9//NONSGML v1.0//EN
CALSCALE:GREGORIAN
METHOD:PUBLISH
X-WR-CALNAME:Česká meteorologická společnost
X-ORIGINAL-URL:http://www.cmes.cz/web
X-WR-CALDESC:Akce na Česká meteorologická společnost
REFRESH-INTERVAL;VALUE=DURATION:PT1H
X-Robots-Tag:noindex
X-PUBLISHED-TTL:PT1H
BEGIN:VTIMEZONE
TZID:Europe/Prague
BEGIN:DAYLIGHT
TZOFFSETFROM:+0100
TZOFFSETTO:+0200
TZNAME:CEST
DTSTART:20240331T010000
END:DAYLIGHT
BEGIN:STANDARD
TZOFFSETFROM:+0200
TZOFFSETTO:+0100
TZNAME:CET
DTSTART:20241027T010000
END:STANDARD
END:VTIMEZONE
BEGIN:VEVENT
DTSTART;TZID=Europe/Prague:20240603T130000
DTEND;TZID=Europe/Prague:20240603T143000
DTSTAMP:20260420T055358
CREATED:20240408T054656Z
LAST-MODIFIED:20240408T055006Z
UID:6654-1717419600-1717425000@www.cmes.cz
SUMMARY:Seminář: Jak se nám mění klima\, co čekáme a jaké jsou dopady (Pavel Zahradníček\, Petr Štěpánek)
DESCRIPTION:Jak se nám mění klima\, co čekáme a jaké jsou dopady \nMgr. Pavel Zahradníček\, Ph.D. (ČHMÚ\, CzechGlobe)\nMgr. Petr Štěpánek\, Ph.D. (ČHMÚ\, CzechGlobe)
URL:http://www.cmes.cz/web/event/seminar-jak-se-nam-meni-klima-co-cekame-a-jake-jsou-dopady-pavel-zahradnicek/
LOCATION:ČHMÚ Brno\, Kroftova 43\, Brno\, Jihomoravský\, 61667\, Česká republika
CATEGORIES:Seminář
END:VEVENT
BEGIN:VEVENT
DTSTART;TZID=Europe/Prague:20240610T130000
DTEND;TZID=Europe/Prague:20240610T143000
DTSTAMP:20260420T055358
CREATED:20240408T054910Z
LAST-MODIFIED:20240408T054910Z
UID:6656-1718024400-1718029800@www.cmes.cz
SUMMARY:Seminář: Zásoby podzemních vod\, mechanizmy proudění podzemních vod\, komunikace podzemní a povrchové vody (J. Novotná)
DESCRIPTION:Zásoby podzemních vod\, mechanizmy proudění podzemních vod\, komunikace podzemní a povrchové vody \nRNDr. Jitka Novotná (Česká geologická služba)
URL:http://www.cmes.cz/web/event/seminar-zasoby-podzemnich-vod-mechanizmy-proudeni-podzemnich-vod-komunikace-podzemni-a-povrchove-vody-j-novotna/
LOCATION:ČHMÚ Brno\, Kroftova 43\, Brno\, Jihomoravský\, 61667\, Česká republika
CATEGORIES:Seminář
END:VEVENT
END:VCALENDAR