BEGIN:VCALENDAR
VERSION:2.0
PRODID:-//Česká meteorologická společnost - ECPv6.2.9//NONSGML v1.0//EN
CALSCALE:GREGORIAN
METHOD:PUBLISH
X-WR-CALNAME:Česká meteorologická společnost
X-ORIGINAL-URL:http://www.cmes.cz/web
X-WR-CALDESC:Akce na Česká meteorologická společnost
REFRESH-INTERVAL;VALUE=DURATION:PT1H
X-Robots-Tag:noindex
X-PUBLISHED-TTL:PT1H
BEGIN:VTIMEZONE
TZID:Europe/Prague
BEGIN:DAYLIGHT
TZOFFSETFROM:+0100
TZOFFSETTO:+0200
TZNAME:CEST
DTSTART:20240331T010000
END:DAYLIGHT
BEGIN:STANDARD
TZOFFSETFROM:+0200
TZOFFSETTO:+0100
TZNAME:CET
DTSTART:20241027T010000
END:STANDARD
BEGIN:DAYLIGHT
TZOFFSETFROM:+0100
TZOFFSETTO:+0200
TZNAME:CEST
DTSTART:20250330T010000
END:DAYLIGHT
BEGIN:STANDARD
TZOFFSETFROM:+0200
TZOFFSETTO:+0100
TZNAME:CET
DTSTART:20251026T010000
END:STANDARD
END:VTIMEZONE
BEGIN:VEVENT
DTSTART;TZID=Europe/Prague:20250528T140000
DTEND;TZID=Europe/Prague:20250528T160000
DTSTAMP:20260420T041222
CREATED:20250303T125330Z
LAST-MODIFIED:20250303T130118Z
UID:16102-1748440800-1748448000@www.cmes.cz
SUMMARY:Meteosat třetí generace (MTG)
DESCRIPTION:autor prezentace: RNDr. Martin Setvák\, CSc.
URL:http://www.cmes.cz/web/event/meteosat-treti-generace-mtg/
LOCATION:ČHMÚ\, zasedací místnost CPP\, Na Šabatce 2050/17\, Praha\, Praha\, 143 06\, Česká republika
CATEGORIES:Přednáška
END:VEVENT
BEGIN:VEVENT
DTSTART;TZID=Europe/Prague:20250506T150000
DTEND;TZID=Europe/Prague:20250506T163000
DTSTAMP:20260420T041222
CREATED:20250402T093418Z
LAST-MODIFIED:20250402T093418Z
UID:16172-1746543600-1746549000@www.cmes.cz
SUMMARY:Zima 2024/2025 - opět nadprůměrně teplá a tentokrát i suchá
DESCRIPTION:autoři: doc. RNDr. Michal Žák (KFA MFF UK) a kol. ČHMÚ
URL:http://www.cmes.cz/web/event/zima-2024-2025-opet-nadprumerne-tepla-a-tentokrat-i-sucha/
LOCATION:ČSVTS\, Novotného lávka\, místnost č. 315\, Novotného lávka 5\, Praha\, Česká republika
CATEGORIES:Přednáška
END:VEVENT
BEGIN:VEVENT
DTSTART;TZID=Europe/Prague:20250422T140000
DTEND;TZID=Europe/Prague:20250422T160000
DTSTAMP:20260420T041222
CREATED:20250319T181736Z
LAST-MODIFIED:20250319T181958Z
UID:16132-1745330400-1745337600@www.cmes.cz
SUMMARY:120 roků meteorologických měření na observatoři Milešovka
DESCRIPTION:autoři prezentace: RNDr. Petr Zacharov\, Ph.D.\, RNDr. Kateřina Skripniková\, Ph.D.
URL:http://www.cmes.cz/web/event/120-roku-meteorologickych-mereni-na-observatori-milesovka/
LOCATION:ÚFA\, zasedací místnost ve 2. poschodí\, Boční II 1401\, Praha\, Praha\, 141 31
CATEGORIES:Přednáška
END:VEVENT
BEGIN:VEVENT
DTSTART;TZID=Europe/Prague:20241203T140000
DTEND;TZID=Europe/Prague:20241203T153000
DTSTAMP:20260420T041222
CREATED:20241025T180525Z
LAST-MODIFIED:20241025T181856Z
UID:7227-1733234400-1733239800@www.cmes.cz
SUMMARY:Hurikány a tornáda (nejen) v roce 2024
DESCRIPTION:přednášející: RNDr. Miloslav Müller\, Ph.D.\, RNDr. Petr Zacharov\, Ph.D.:
URL:http://www.cmes.cz/web/event/hurikany-a-tornada-nejen-v-roce-2024/
LOCATION:ÚFA\, zasedací místnost ve 2. poschodí\, Boční II 1401\, Praha\, Praha\, 141 31
CATEGORIES:Přednáška
END:VEVENT
BEGIN:VEVENT
DTSTART;TZID=Europe/Prague:20241121T140000
DTEND;TZID=Europe/Prague:20241121T153000
DTSTAMP:20260420T041222
CREATED:20241023T185737Z
LAST-MODIFIED:20241025T181941Z
UID:7210-1732197600-1732203000@www.cmes.cz
SUMMARY:Vyhodnocení povodňové situace na území ČR v září 2024
DESCRIPTION:autoři prezentace: Mgr. Marjan Sandev\, RNDr. Lenka Crhová\, Ph.D.\, Ing. Petr Šercl\, Ph.D.\, Mgr. Martin Pecha
URL:http://www.cmes.cz/web/event/vyhodnoceni-povodnove-situace-na-uzemi-cr-v-zari-2024/
LOCATION:ČHMÚ\, zasedací místnost CPP\, Na Šabatce 2050/17\, Praha\, Praha\, 143 06\, Česká republika
CATEGORIES:Přednáška
END:VEVENT
BEGIN:VEVENT
DTSTART;TZID=Europe/Prague:20241107T143000
DTEND;TZID=Europe/Prague:20241107T160000
DTSTAMP:20260420T041222
CREATED:20241025T175912Z
LAST-MODIFIED:20241026T161130Z
UID:7226-1730989800-1730995200@www.cmes.cz
SUMMARY:Sopky a naše atmosféra
DESCRIPTION:přednášející: Mgr. Dominika Hájková (KFA MFF UK)
URL:http://www.cmes.cz/web/event/sopky-a-nase-atmosfera/
LOCATION:ČSVTS\, Novotného lávka\, místnost č. 315\, Novotného lávka 5\, Praha\, Česká republika
CATEGORIES:Přednáška
END:VEVENT
END:VCALENDAR