BEGIN:VCALENDAR
VERSION:2.0
PRODID:-//Česká meteorologická společnost - ECPv6.2.9//NONSGML v1.0//EN
CALSCALE:GREGORIAN
METHOD:PUBLISH
X-WR-CALNAME:Česká meteorologická společnost
X-ORIGINAL-URL:http://www.cmes.cz/web
X-WR-CALDESC:Akce na Česká meteorologická společnost
REFRESH-INTERVAL;VALUE=DURATION:PT1H
X-Robots-Tag:noindex
X-PUBLISHED-TTL:PT1H
BEGIN:VTIMEZONE
TZID:Europe/Prague
BEGIN:DAYLIGHT
TZOFFSETFROM:+0100
TZOFFSETTO:+0200
TZNAME:CEST
DTSTART:20250330T010000
END:DAYLIGHT
BEGIN:STANDARD
TZOFFSETFROM:+0200
TZOFFSETTO:+0100
TZNAME:CET
DTSTART:20251026T010000
END:STANDARD
END:VTIMEZONE
BEGIN:VEVENT
DTSTART;TZID=Europe/Prague:20251203T133000
DTEND;TZID=Europe/Prague:20251203T143000
DTSTAMP:20260419T141757
CREATED:20251007T125739Z
LAST-MODIFIED:20251029T112448Z
UID:16635-1764768600-1764772200@www.cmes.cz
SUMMARY:Vzpomínky na Milešovku
DESCRIPTION:přednášející: RNDr. Zdeněk Blažek\, CSc. \nCelý profesní život se věnoval meteorologii a kvalitě ovzduší\, a to především se zaměřením na studium znečištění ovzduší\, zkoumání a vývoj metodik v problematice vztahů mezi znečištěním atmosféry a meteorologickými podmínkami a na hodnocení transportu znečišťujících látek. Je autorem či spoluautorem vědeckých článků i publikací. Na Milešovce se zejména věnoval problematice měření usazených srážek.
URL:http://www.cmes.cz/web/event/vzpominky-na-milesovku/
LOCATION:ČHMÚ Ostrava\, K Myslivně 3/2182\, Ostrava\, Moravskoslezský\, 708 00\, Česká republika
CATEGORIES:Přednáška
END:VEVENT
END:VCALENDAR