BEGIN:VCALENDAR
VERSION:2.0
PRODID:-//Česká meteorologická společnost - ECPv6.2.9//NONSGML v1.0//EN
CALSCALE:GREGORIAN
METHOD:PUBLISH
X-ORIGINAL-URL:http://www.cmes.cz/web
X-WR-CALDESC:Akce na Česká meteorologická společnost
REFRESH-INTERVAL;VALUE=DURATION:PT1H
X-Robots-Tag:noindex
X-PUBLISHED-TTL:PT1H
BEGIN:VTIMEZONE
TZID:Europe/Prague
BEGIN:DAYLIGHT
TZOFFSETFROM:+0100
TZOFFSETTO:+0200
TZNAME:CEST
DTSTART:20250330T010000
END:DAYLIGHT
BEGIN:STANDARD
TZOFFSETFROM:+0200
TZOFFSETTO:+0100
TZNAME:CET
DTSTART:20251026T010000
END:STANDARD
END:VTIMEZONE
BEGIN:VEVENT
DTSTART;TZID=Europe/Prague:20251119T140000
DTEND;TZID=Europe/Prague:20251119T153000
DTSTAMP:20260419T155324
CREATED:20251008T134919Z
LAST-MODIFIED:20251008T135344Z
UID:16663-1763560800-1763566200@www.cmes.cz
SUMMARY:Epizody sucha v ČR v posledních 50 letech
DESCRIPTION:přednášející: doc. Dr. Ing. Martin Možný (ČHMÚ\, ČZÚ)
URL:http://www.cmes.cz/web/event/epizody-sucha-v-cr-v-poslednich-50-letech/
LOCATION:ČHMÚ Praha\, velká zasedací místnost v budově BRI\, Na Šabatce 17\, Praha 12\, Czech Republic
CATEGORIES:Přednáška
END:VEVENT
END:VCALENDAR