BEGIN:VCALENDAR
VERSION:2.0
PRODID:-//Česká meteorologická společnost - ECPv6.2.9//NONSGML v1.0//EN
CALSCALE:GREGORIAN
METHOD:PUBLISH
X-WR-CALNAME:Česká meteorologická společnost
X-ORIGINAL-URL:http://www.cmes.cz/web
X-WR-CALDESC:Akce na Česká meteorologická společnost
REFRESH-INTERVAL;VALUE=DURATION:PT1H
X-Robots-Tag:noindex
X-PUBLISHED-TTL:PT1H
BEGIN:VTIMEZONE
TZID:Europe/Prague
BEGIN:DAYLIGHT
TZOFFSETFROM:+0100
TZOFFSETTO:+0200
TZNAME:CEST
DTSTART:20250330T010000
END:DAYLIGHT
BEGIN:STANDARD
TZOFFSETFROM:+0200
TZOFFSETTO:+0100
TZNAME:CET
DTSTART:20251026T010000
END:STANDARD
END:VTIMEZONE
BEGIN:VEVENT
DTSTART;TZID=Europe/Prague:20251105T180000
DTEND;TZID=Europe/Prague:20251105T190000
DTSTAMP:20260419T155246
CREATED:20251016T200817Z
LAST-MODIFIED:20251016T201433Z
UID:16694-1762365600-1762369200@www.cmes.cz
SUMMARY:Klimatická změna - Realita x fake?
DESCRIPTION:přednášející: Mgr. Adam Valík\, Ph.D. \nZajímá vás změna klimatu? Myslíte si\, že je to reálná hrozba nebo pouze výmysl vědecké komunity? Máme se podle vás připravit na horší časy nebo se těšíte\, že se budete moci v létě déle opalovat? Jste názoru\, že se Evropa aktuální klimatickou politikou zruinuje? Nebo toho dělá málo? Pokud byla Vaše odpověď na kterýkoliv z těchto dotazů ANO\, neváhejte a dojděte 5.11.2025 v 18 hodin na Brněnskou pobočku Českého Hydrometeorologického ústavu\, podělit se s námi o váš názor\, pochyby a pokusme se společně najít na tyto otázky odpovědi.
URL:http://www.cmes.cz/web/event/klimaticka-zmena-realita-x-fake/
LOCATION:ČHMÚ Brno\, Kroftova 43\, Brno\, Jihomoravský\, 61667\, Česká republika
CATEGORIES:Přednáška
END:VEVENT
END:VCALENDAR