BEGIN:VCALENDAR
VERSION:2.0
PRODID:-//Česká meteorologická společnost - ECPv6.2.9//NONSGML v1.0//EN
CALSCALE:GREGORIAN
METHOD:PUBLISH
X-WR-CALNAME:Česká meteorologická společnost
X-ORIGINAL-URL:http://www.cmes.cz/web
X-WR-CALDESC:Akce na Česká meteorologická společnost
REFRESH-INTERVAL;VALUE=DURATION:PT1H
X-Robots-Tag:noindex
X-PUBLISHED-TTL:PT1H
BEGIN:VTIMEZONE
TZID:Europe/Prague
BEGIN:DAYLIGHT
TZOFFSETFROM:+0100
TZOFFSETTO:+0200
TZNAME:CEST
DTSTART:20250330T010000
END:DAYLIGHT
BEGIN:STANDARD
TZOFFSETFROM:+0200
TZOFFSETTO:+0100
TZNAME:CET
DTSTART:20251026T010000
END:STANDARD
END:VTIMEZONE
BEGIN:VEVENT
DTSTART;TZID=Europe/Prague:20251104T143000
DTEND;TZID=Europe/Prague:20251104T160000
DTSTAMP:20260419T155207
CREATED:20251008T134242Z
LAST-MODIFIED:20251008T135250Z
UID:16655-1762266600-1762272000@www.cmes.cz
SUMMARY:Bylo letošní léto studené nebo teplé?
DESCRIPTION:přednášející: doc. Mgr. Michal Žák\, Ph.D. (KFA MFF UK)\, spoluautor přednášky Mgr. Pavel Zahradníček\, Ph.D. (ČHMÚ\, ÚVGZ AV ČR)
URL:http://www.cmes.cz/web/event/bylo-letosni-leto-studene-nebo-teple/
LOCATION:ČSVTS\, Novotného lávka\, místnost č. 315\, Novotného lávka 5\, Praha\, Česká republika
CATEGORIES:Přednáška
END:VEVENT
END:VCALENDAR