BEGIN:VCALENDAR
VERSION:2.0
PRODID:-//Česká meteorologická společnost - ECPv6.2.9//NONSGML v1.0//EN
CALSCALE:GREGORIAN
METHOD:PUBLISH
X-WR-CALNAME:Česká meteorologická společnost
X-ORIGINAL-URL:http://www.cmes.cz/web
X-WR-CALDESC:Akce na Česká meteorologická společnost
REFRESH-INTERVAL;VALUE=DURATION:PT1H
X-Robots-Tag:noindex
X-PUBLISHED-TTL:PT1H
BEGIN:VTIMEZONE
TZID:Europe/Prague
BEGIN:DAYLIGHT
TZOFFSETFROM:+0100
TZOFFSETTO:+0200
TZNAME:CEST
DTSTART:20240331T010000
END:DAYLIGHT
BEGIN:STANDARD
TZOFFSETFROM:+0200
TZOFFSETTO:+0100
TZNAME:CET
DTSTART:20241027T010000
END:STANDARD
END:VTIMEZONE
BEGIN:VEVENT
DTSTART;TZID=Europe/Prague:20241015T150000
DTEND;TZID=Europe/Prague:20241015T163000
DTSTAMP:20260420T014731
CREATED:20240629T193715Z
LAST-MODIFIED:20241009T050359Z
UID:6932-1729004400-1729009800@www.cmes.cz
SUMMARY:Exkurze a přednáška: "Zelené střechy a vertikální stěny" ČZU Praha Suchdol
DESCRIPTION:Zajímá vás\, jak izolovat dům zelenou střechou nebo stěnou? A jaká úskalí vás při tom můžou potkat? Nebo byste jen rádi pronikli do problému a ujasnili si\, kdy je takový projekt opravdu šetrný ke klimatu a kdy vůbec? Praktická vysvětlení a přednáška Ing. Luboše Tűrkotta\, Ph.D. a Ing. Zdeňka Hromady z České zemědělské univerzity.
URL:http://www.cmes.cz/web/event/exkurze-a-prednaska-zelene-strechy-a-vertikalni-steny-czu-praha-suchdol/
LOCATION:Stecherův mlýn\, Litvínovice 32\, České Budějovice\, Jihočeský
CATEGORIES:Exkurze a přednáška
END:VEVENT
BEGIN:VEVENT
DTSTART;TZID=Europe/Prague:20241007T133000
DTEND;TZID=Europe/Prague:20241007T150000
DTSTAMP:20260420T014731
CREATED:20240929T073804Z
LAST-MODIFIED:20241025T181033Z
UID:7093-1728307800-1728313200@www.cmes.cz
SUMMARY:Promítání absolventského filmu Zuzany Žurkové z České televize studio Ostrava Klimatická změna nebo katastrofa? a diskuse s autory
DESCRIPTION:Promítání a beseda s autory absolventského filmu Klimatická změna nebo katastrofa? (premiéra se uskutečnila 27. září 2024 v rámci programu Noc vědců v kinosále na Hauerova 4\, Opava)\, délka filmu 35 minut\, k filmu radou či dodaným materiálem přispěli někteří pracovníci ostravské pobočky Českého hydrometeorologického ústavu
URL:http://www.cmes.cz/web/event/promitani-absolventskeho-filmu-a-diskuse-s-autory/
LOCATION:ČHMÚ Ostrava\, K Myslivně 3/2182\, Ostrava\, Moravskoslezský\, 708 00\, Česká republika
CATEGORIES:Exkurze a přednáška,Projekce
ATTACH;FMTTYPE=image/png:http://www.cmes.cz/web/wp-content/uploads/2024/09/zurkova_film1.png
END:VEVENT
END:VCALENDAR